BEGIN:VCALENDAR
VERSION:2.0
PRODID:-//eventon.com NONSGML v1.0//EN
BEGIN:VEVENT
UID:69e60a040ca13
DTSTAMP:20260420T121204
DTSTART:20220906T110000Z
DTEND:20220907T105900Z
TZID:Pacific/Midway
LOCATION:
SUMMARY:Publicação dos Horários e das listas das Turmas
DESCRIPTION: Publicação dos Horários e das listas das Turmas
URL:https://hbg.pt/Eventos/publicacao-dos-horarios-e-das-listas-das-turmas/
END:VEVENT
END:VCALENDAR