BEGIN:VCALENDAR
VERSION:2.0
PRODID:-//eventon.com NONSGML v1.0//EN
BEGIN:VEVENT
UID:69e61832118dc
DTSTAMP:20260420T131234
DTSTART:20220909T110000Z
DTEND:20220910T105900Z
TZID:Pacific/Midway
LOCATION:
SUMMARY:Entrega dos Tablets aos alunos do 9.º ano - SUSPENSO
DESCRIPTION: Por motivos técnicos alheios à escola\,  fica suspensa\,  até data a anunciar\,  a entrega dos tablets de 9.º ano.
URL:https://hbg.pt/Eventos/entrega-dos-tablets-aos-alunos-do-9-o-ano/
END:VEVENT
END:VCALENDAR