BEGIN:VCALENDAR
VERSION:2.0
PRODID:-//eventon.com NONSGML v1.0//EN
BEGIN:VEVENT
UID:69e5e372b603d
DTSTAMP:20260420T092730
DTSTART:20220912T110000Z
DTEND:20220913T033000Z
TZID:Pacific/Midway
LOCATION:
SUMMARY:Receção aos alunos de 5º ano
DESCRIPTION: 10:00 9:30 para as turmas da manhã; 14:30 para as turmas da tarde;
URL:https://hbg.pt/Eventos/rececao-aos-alunos-de-5o-ano/
END:VEVENT
END:VCALENDAR