BEGIN:VCALENDAR
VERSION:2.0
PRODID:-//eventon.com NONSGML v1.0//EN
BEGIN:VEVENT
UID:69e5f69a40a8a
DTSTAMP:20260420T104914
DTSTART:20220930T150000Z
DTEND:20220930T163000Z
TZID:Etc/Greenwich
LOCATION:
SUMMARY:Noite Europeia do Investigador
DESCRIPTION: Atividade dinamizada pelo serviço educativo ARDITI\, &nbsp;Agência Regional para o Desenvolvimento da Investigação\,  Tecnologia e Inovação. A turma 1 do 6ºano irá observar as características de algumas espécies marinhas através da realidade virtual. Esta atividade estará enquadrada na Noite Europeia dos Investigadores e no projeto Escola&nbsp;Azul.
URL:https://hbg.pt/Eventos/noite-europeia-do-investigador/
END:VEVENT
END:VCALENDAR