BEGIN:VCALENDAR
VERSION:2.0
PRODID:-//eventon.com NONSGML v1.0//EN
BEGIN:VEVENT
UID:69e608ba9d71c
DTSTAMP:20260420T120634
DTSTART:20221116T090000Z
DTEND:20221116T183000Z
TZID:Etc/Greenwich
LOCATION:
SUMMARY:Comemoração do Dia Nacional do Mar
DESCRIPTION: No dia 16 de novembro\,  celebra-se o dia Nacional do mar. A celebração desta data pretende destacar a importância que o mar tem para a história e identidade de Portugal\,  bem como para a economia e o desenvolvimento do país. Neste dia será dinamizada uma palestra e estará patente uma[..]
URL:https://hbg.pt/Eventos/comemoracao-do-dia-nacional-do-mar-2/
END:VEVENT
END:VCALENDAR