BEGIN:VCALENDAR
VERSION:2.0
PRODID:-//eventon.com NONSGML v1.0//EN
BEGIN:VEVENT
UID:69e5e36f881bc
DTSTAMP:20260420T092727
DTSTART:20221115T211500Z
DTEND:20221115T221500Z
TZID:Pacific/Midway
LOCATION:Auditório - HBG 
SUMMARY:Comemoração do Dia Nacional do Mar - Palestra
DESCRIPTION: Comemoração do Dia Nacional do Mar &#8211; Palestra com a Dr.ª Mafalda Freitas. Os Peixes da Madeira com Exposições itinerantes do IFCN e Exposições dos alunos. No âmbito do Projeto Educar para a BioGeodiversidade da RAM\,  em parceria com  a Escola Azul\,  Projeto Gea Terra Mãe\,  Eco-Escolas\,  Clube de Teatro\, [..]
URL:https://hbg.pt/Eventos/comememoracao-do-dia-nacional-do-mar-palestra-com-a-dra-mafalada-freitas-os-peixes-da-madeira-com-exposicoes-itererantes-do-ifcn-e-exposicoes-dos-alunos/
END:VEVENT
END:VCALENDAR