BEGIN:VCALENDAR
VERSION:2.0
PRODID:-//eventon.com NONSGML v1.0//EN
BEGIN:VEVENT
UID:69e60a4bd80bb
DTSTAMP:20260420T121315
DTSTART:20221119T201500Z
DTEND:20221120T000000Z
TZID:Pacific/Midway
LOCATION:
SUMMARY:Visita de Estudo de Catamarã
DESCRIPTION: No âmbito do Projeto Educar para a BioGeodiversidade da RAM\,  em parceria com&nbsp; a Escola Azul\,  Projeto Gea Terra Mãe\,  Eco-Escolas\,  Clube de Teatro\,  na pessoa do Prof.ª António Garçês\, &nbsp; Clube de Música com a Prof.ª Dorinda\,  as Coordenadoras Sandra Jardim e Isabel Morna\,  anunciam&nbsp; que na semana de Comemoração[..]
URL:https://hbg.pt/Eventos/visita-de-estudo-de-catamara/
END:VEVENT
END:VCALENDAR