BEGIN:VCALENDAR
VERSION:2.0
PRODID:-//eventon.com NONSGML v1.0//EN
BEGIN:VEVENT
UID:69e5f5a25fdf8
DTSTAMP:20260420T104506
DTSTART:20221117T023000Z
DTEND:20221117T040000Z
TZID:Pacific/Midway
LOCATION:Auditório - HBG 
SUMMARY:Convivialidade HBG - Palestras Motivacionais pelo Sucesso Escolar 22/23
DESCRIPTION: Expressões como &#8220;é uma seca&#8221;\,  &#8220;não tenho paciência&#8221;\, &#8221;não preciso de saber aquilo para nada&#8221;\,  etc.\,  são ouvidas amiúde e causam grande preocupação a pais\,  professores e outros profissionais. As causas deste desinteresse e falta de empenho de alguns jovens na vida escolar são multifactoriais e algumas delas difíceis de contornar. Os[..]
URL:https://hbg.pt/Eventos/convivialidade-hbg-palestras-motivacionais-pelo-sucesso-escolar-22-23-2/var/ri-1.l-L1
END:VEVENT
END:VCALENDAR