BEGIN:VCALENDAR
VERSION:2.0
PRODID:-//eventon.com NONSGML v1.0//EN
BEGIN:VEVENT
UID:69e60a3cd6909
DTSTAMP:20260420T121300
DTSTART:20221216T004500Z
DTEND:20221216T021500Z
TZID:Pacific/Midway
LOCATION:Auditório - HBG 
SUMMARY:Convivialidade HBG - Palestras Motivacionais pelo Sucesso Escolar 22/23
DESCRIPTION: Palavras como&nbsp;é uma seca\,  não tenho paciência\,  não preciso de saber aquilo para nada\,  etc.\,  são ouvidas amiúde e causam grande preocupação a pais\,  professores e outros profissionais. As causas deste desinteresse e falta de empenho de alguns jovens na vida escolar são multifactoriais e algumas delas difíceis de contornar.[..]
URL:https://hbg.pt/Eventos/convivialidade-hbg-palestras-motivacionais-pelo-sucesso-escolar-22-23-3/
END:VEVENT
END:VCALENDAR