BEGIN:VCALENDAR
VERSION:2.0
PRODID:-//eventon.com NONSGML v1.0//EN
BEGIN:VEVENT
UID:69e60a3cba14b
DTSTAMP:20260420T121300
DTSTART:20221031T230000Z
DTEND:20221101T023000Z
TZID:Pacific/Midway
LOCATION:Varanda do 2º piso 
SUMMARY:Apresentação de Clubes e Projetos HBG
DESCRIPTION: Os Clubes e Projetos da HBG estarão reunidos numa Apresentação Conjunta nos próximos dias 28 e 31 de outubro\,  sexta e segunda-feira. O local escolhido é a varanda do 2.º piso e teremos dias repletos de atividades. Esperamos a vossa visita\,  aproveitem para conhecer a nossa oferta extracurricular e se[..]
URL:https://hbg.pt/Eventos/apresentacao-de-clubes-e-projetos-hbg/var/ri-1.l-L1
END:VEVENT
END:VCALENDAR