BEGIN:VCALENDAR
VERSION:2.0
PRODID:-//eventon.com NONSGML v1.0//EN
BEGIN:VEVENT
UID:69e5e36ad1b1f
DTSTAMP:20260420T092722
DTSTART:20221110T020900Z
DTEND:20221110T023000Z
TZID:Pacific/Midway
LOCATION:Escola HBG Estrada da liberdade\,  1\,  Funchal
SUMMARY:A Terra Treme 2022
DESCRIPTION: A TERRA TREME 2022 &#8211; Exercício de abrigo e de evacuação &nbsp;“A Terra Treme” é um exercício organizado anualmente pela Autoridade Nacional de Emergência e Proteção Civil. Ø Se está&nbsp;no exterior\,  siga as instruções dos sinaleiros e encaminha-te para o Ponto de Encontro (Poli3). Ø Se está&nbsp;no interior\,  Baixe\,  Protege[..]
URL:https://hbg.pt/Eventos/a-terra-treme-2022/var/ri-1.l-L1
END:VEVENT
END:VCALENDAR