BEGIN:VCALENDAR
VERSION:2.0
PRODID:-//eventon.com NONSGML v1.0//EN
BEGIN:VEVENT
UID:69e60989b77f2
DTSTAMP:20260420T121001
DTSTART:20221124T191500Z
DTEND:20221124T220000Z
TZID:Pacific/Midway
LOCATION:Hall do Polivalente 
SUMMARY:UMa experiência para mentes curiosas
DESCRIPTION: No próximo dia 24 de novembro irá decorrer na nossa escola a atividade\,  “UMa experiência para mentes curiosas”\,  programada pela Escola Azul e em parceria com o grupo de Ciências da Natureza\,  2º ciclo. Esta atividade será dinamizada pelos estudantes do 3º ano do Curso em Educação Básica da Universidade[..]
URL:https://hbg.pt/Eventos/uma-experiencia-para-mentes-curiosas/
END:VEVENT
END:VCALENDAR