BEGIN:VCALENDAR
VERSION:2.0
PRODID:-//eventon.com NONSGML v1.0//EN
BEGIN:VEVENT
UID:69e5e3688362e
DTSTAMP:20260420T092720
DTSTART:20221119T200000Z
DTEND:20221120T000000Z
TZID:Pacific/Midway
LOCATION:RG3 
SUMMARY:Desporto Escolar
DESCRIPTION: Competião Externa inter-escolas Atlletismo &#8211; Pista C. Lobos&nbsp; Patinagem &#8211; Pav Ponta do Sol&nbsp; Basquetebol &#8211; Pav Francisco Franco Futsal &#8211; Pav dos Salesianos&nbsp; Actividades Nauticas &#8211; Cais de São Lázaro
URL:https://hbg.pt/Eventos/desporto-escolar/
END:VEVENT
END:VCALENDAR