BEGIN:VCALENDAR
VERSION:2.0
PRODID:-//eventon.com NONSGML v1.0//EN
BEGIN:VEVENT
UID:69e5f71cd2e33
DTSTAMP:20260420T105124
DTSTART:20221124T110000Z
DTEND:20221125T110000Z
TZID:Pacific/Midway
LOCATION:Centro de Química da Madeira Centro de Química da Madeira Campus Universitário da Penteada 9020-105 Funchal  Telef.: 291 705150  E-mail: qdiv@uma.pt
SUMMARY:A QUÍMICA É DIVERTIDA!
DESCRIPTION:   Todos os anos\,  na Semana Nacional da Ciência e da Tecnologia\,  o Centro de Química da Madeira (CQM) abre as portas\,  no decorrer de mais uma edição de &#8220;A QUÍMICA É DIVERTIDA&#8221;. As atividades\,  que se realizam\,  incluem sempre demonstrações experimentais e visitas guiadas aos laboratórios de investigação e[..]
URL:https://hbg.pt/Eventos/a-quimica-e-divertida/
END:VEVENT
END:VCALENDAR