BEGIN:VCALENDAR
VERSION:2.0
PRODID:-//eventon.com NONSGML v1.0//EN
BEGIN:VEVENT
UID:69e60adfa2c5e
DTSTAMP:20260420T121543
DTSTART:20221128T234500Z
DTEND:20221129T013000Z
TZID:Pacific/Midway
LOCATION:Escola HBG Estrada da liberdade\,  1\,  Funchal
SUMMARY:Prova dos Nove – 9.ºano
DESCRIPTION: Atividade Interna Desportiva/Desporto Escolar Prova dos Nove – 9.ºano. Realiza-se\,  no dia 28 de novembro. a Prova dos Nove para as turmas do 9ºano de escolaridade\,  entre as 12h45 – 14h30\,  nas instalações desportivas da Escola. A Prova dos Nove é uma competição composta por um conjunto de nove provas[..]
URL:https://hbg.pt/Eventos/prova-dos-nove-9oano-2/
END:VEVENT
END:VCALENDAR