BEGIN:VCALENDAR
VERSION:2.0
PRODID:-//eventon.com NONSGML v1.0//EN
BEGIN:VEVENT
UID:69e609456b0eb
DTSTAMP:20260420T120853
DTSTART:20221101T110000Z
DTEND:20221105T013000Z
TZID:Pacific/Midway
LOCATION:Escola Básica Dr. Horácio Bento de Gouveia 
SUMMARY:Exposição de composições visuais \,  tema: "O que me faz feliz".
DESCRIPTION: Educação Visual\,  3º Ciclo\,  Ano: 7º\,  turmas: 1\, 2 e3. No dia 31 de Outubro foi dado início a montagem da exposição de trabalhos ficando patente até dia 4 de Novembro. Foi notório o empenho de todos os envolvidos nesta atividade na medida em que dinamizaram o espaço do polivalente\,  desenvolvendo[..]
URL:https://hbg.pt/Eventos/exposicao-de-composicoes-visuais-tema-o-que-me-faz-feliz/
END:VEVENT
END:VCALENDAR