BEGIN:VCALENDAR
VERSION:2.0
PRODID:-//eventon.com NONSGML v1.0//EN
BEGIN:VEVENT
UID:69e5e36454892
DTSTAMP:20260420T092716
DTSTART:20221215T220000Z
DTEND:20221216T000000Z
TZID:Pacific/Midway
LOCATION:Instalações Desportivas HBG 
SUMMARY:Patrícia Mamona - Do Desporto Escolar à Medalha Olímpica
DESCRIPTION: Dia 15 de dezembro iremos receber\,  na nossa Escola. a Olímpica Patrícia Mamona. entre as 11:00h e as 13:00h. Com sessão de autógrafos e jogos de superação de atletismo.
URL:https://hbg.pt/Eventos/patricia-mamona-do-desporto-escolar-a-medalha-olimpica/
END:VEVENT
END:VCALENDAR