BEGIN:VCALENDAR
VERSION:2.0
PRODID:-//eventon.com NONSGML v1.0//EN
BEGIN:VEVENT
UID:69e5e364e4ed8
DTSTAMP:20260420T092716
DTSTART:20221214T211500Z
DTEND:20221215T040000Z
TZID:Pacific/Midway
LOCATION:Núcleo Desportivo Oeste Estrada da Liberdade\,  1 9004-524 FUNCHAL
SUMMARY:Eu Sei Proteger!
DESCRIPTION: O projeto ESPR\,  em colaboração com o grupo disciplinar de Educação Física\,  organizará a atividade de realidade virtual\,  implementado o projeto “Eu Sei Proteger” do Serviço Regional de Proteção Civil da Madeira nos dias 13 e 14 de dezembro no Núcleo Desportivo Oeste. A sensibilização pretende comunicar à população escolar\, [..]
URL:https://hbg.pt/Eventos/eu-sei-proteger/var/ri-1.l-L1
END:VEVENT
END:VCALENDAR