BEGIN:VCALENDAR
VERSION:2.0
PRODID:-//eventon.com NONSGML v1.0//EN
BEGIN:VEVENT
UID:69e6098b0f958
DTSTAMP:20260420T121003
DTSTART:20230109T223000Z
DTEND:20230114T063000Z
TZID:Pacific/Midway
LOCATION:Auditório - HBG 
SUMMARY:Uma semana para ti - Saúde Mental - Feridas Invisíveis
DESCRIPTION: Durante a semana decorrerão várias conferências destinadas a diferentes públicos\,  conforme publicado no cartaz.
URL:https://hbg.pt/Eventos/uma-semana-para-ti-saude-mental-feridas-invisiveis/
END:VEVENT
END:VCALENDAR