BEGIN:VCALENDAR
VERSION:2.0
PRODID:-//eventon.com NONSGML v1.0//EN
BEGIN:VEVENT
UID:69e6098a1c75b
DTSTAMP:20260420T121002
DTSTART:20230101T110000Z
DTEND:20230201T105900Z
TZID:Pacific/Midway
LOCATION:
SUMMARY:IX Concurso de Talentos HBG
DESCRIPTION: Estão a decorrer as inscrições para o IX Concurso de Talentos HBG
URL:https://hbg.pt/Eventos/ix-concurso-de-talentos-hbg/
END:VEVENT
END:VCALENDAR