BEGIN:VCALENDAR
VERSION:2.0
PRODID:-//eventon.com NONSGML v1.0//EN
BEGIN:VEVENT
UID:69e5f64bebe0d
DTSTAMP:20260420T104755
DTSTART:20230208T234500Z
DTEND:20230209T013000Z
TZID:Pacific/Midway
LOCATION:
SUMMARY:Prova dos Nove 7.°anos
DESCRIPTION: Desporto Escolar Prova dos Nove – 7ºano No dia 8 de fevereiro (4ªfeira) acontece mais uma Prova dos Nove para as turmas de 7ºano. A atividade realiza-se nas instalações desportivas da escola entre as 12h45 – 14h30.
URL:https://hbg.pt/Eventos/prova-dos-nove-7-anos/
END:VEVENT
END:VCALENDAR