BEGIN:VCALENDAR
VERSION:2.0
PRODID:-//eventon.com NONSGML v1.0//EN
BEGIN:VEVENT
UID:69e5e369749f5
DTSTAMP:20260420T092721
DTSTART:20230207T110000Z
DTEND:20230211T105900Z
TZID:Pacific/Midway
LOCATION:
SUMMARY:Roda dos Alimentos
DESCRIPTION: No âmbito do conteúdo &#8220;Opções de vida saudável&#8221;\,  o grupo 520- Ciências Naturais\,  3º ciclo\,  construiu\,  no átrio do piso 2\,  uma roda dos alimentos com o objetivo de incentivar a Comunidade Educativa para uma alimentação equilibrada\,  completa e variada. Durante a semana\,  decorre também a recolha de alimentos para[..]
URL:https://hbg.pt/Eventos/roda-dos-alimentos/
END:VEVENT
END:VCALENDAR