BEGIN:VCALENDAR
VERSION:2.0
PRODID:-//eventon.com NONSGML v1.0//EN
BEGIN:VEVENT
UID:69e5f69547eac
DTSTAMP:20260420T104909
DTSTART:20230213T221500Z
DTEND:20230214T000000Z
TZID:Pacific/Midway
LOCATION:Auditório - HBG 
SUMMARY:Ação de sensibilização sobre Cibersegurança - Orador:Técnico Nuno Drummond
DESCRIPTION: A sensibilização e ensino da “CiberSegurança na Escola” promove uma utilização crítica\,  responsável e segura da Internet\,  dos dispositivos móveis e dos ambientes virtuais. O que vamos aprender:&nbsp;incentivar a reflexão sobre as oportunidades e desafios da segurança no mundo digital; valorizar o uso seguro das redes\,  dos sistemas de informação[..]
URL:https://hbg.pt/Eventos/palestra-sobre-ciberseguranca-oradortecnico-nuno-drummond/
END:VEVENT
END:VCALENDAR