BEGIN:VCALENDAR
VERSION:2.0
PRODID:-//eventon.com NONSGML v1.0//EN
BEGIN:VEVENT
UID:69e5e64c9d5e5
DTSTAMP:20260420T093940
DTSTART:20230215T213000Z
DTEND:20230215T223000Z
TZID:Pacific/Midway
LOCATION:
SUMMARY:Dia Internacional da Criança com Cancro
DESCRIPTION: 🎗️💛 Na quarta-feira\,  dia 15 de fevereiro\,  assinala-se o Dia Internacional da Criança com Cancro. 💛🎗️ 🎗️💛 A HBG associa-se a esta iniciativa com diversas atividades\,  demonstrando a nossa solidariedade para com esta nobre causa. 💛🎗️ Siga o evento na nossa página do Facebook HBG: https://m.facebook.com/events/898110511605317
URL:https://hbg.pt/Eventos/dia-internacional-da-crianca-com-cancro/var/event_access
END:VEVENT
END:VCALENDAR