BEGIN:VCALENDAR
VERSION:2.0
PRODID:-//eventon.com NONSGML v1.0//EN
BEGIN:VEVENT
UID:69e60a3dc3771
DTSTAMP:20260420T121301
DTSTART:20230217T110000Z
DTEND:20230218T054500Z
TZID:Pacific/Midway
LOCATION:
SUMMARY:Atividades de Carnaval
DESCRIPTION: No dia 17 de fevereiro\,  a nossa escola irá assinalar o Carnaval! As atividades a desenvolver destinam-se aos alunos de 2.º e 3.º ciclos. Os alunos podem trazer um adereço ou acessório de Carnaval. Programa Turno da manhã 2.º ciclo&nbsp;A hora de entrada dos alunos mantem-se às 8h.00 e os[..]
URL:https://hbg.pt/Eventos/atividades-de-carnaval/
END:VEVENT
END:VCALENDAR