BEGIN:VCALENDAR
VERSION:2.0
PRODID:-//eventon.com NONSGML v1.0//EN
BEGIN:VEVENT
UID:69e5e64e23a8d
DTSTAMP:20260420T093942
DTSTART:20230224T200000Z
DTEND:20230225T000000Z
TZID:Pacific/Midway
LOCATION:
SUMMARY:Corta-mato Regional
DESCRIPTION: Dia 24 de fevereiro decorerá nos jardins do Lido o corta-mato escolar Jovem.&nbsp; A esccola HBG participar com 24 alunos nos diferentes escalões. Boa sorte a Todos.&nbsp;
URL:https://hbg.pt/Eventos/corta-mato-regional/
END:VEVENT
END:VCALENDAR