BEGIN:VCALENDAR
VERSION:2.0
PRODID:-//eventon.com NONSGML v1.0//EN
BEGIN:VEVENT
UID:69e5e3680c9d2
DTSTAMP:20260420T092720
DTSTART:20230224T211500Z
DTEND:20230224T224500Z
TZID:Pacific/Midway
LOCATION:
SUMMARY:Conferência com o realizador Madeirense Luís Miguel Jardim
DESCRIPTION: Gosta de cinema? Venha conhecer a experiência do realizador madeirense Luís Miguel Jardim.&nbsp;
URL:https://hbg.pt/Eventos/conferencia-com-o-realizador-madeirense-luis-miguel-jardim/
END:VEVENT
END:VCALENDAR