BEGIN:VCALENDAR
VERSION:2.0
PRODID:-//eventon.com NONSGML v1.0//EN
BEGIN:VEVENT
UID:69e60a05302c1
DTSTAMP:20260420T121205
DTSTART:20230307T210000Z
DTEND:20230307T223000Z
TZID:Pacific/Midway
LOCATION:Auditório - HBG 
SUMMARY:Rali Vai à Escola
DESCRIPTION: Atividade do Plano Regional de Educação Rodoviária.
URL:https://hbg.pt/Eventos/rali-vai-a-escola/
END:VEVENT
END:VCALENDAR