BEGIN:VCALENDAR
VERSION:2.0
PRODID:-//eventon.com NONSGML v1.0//EN
BEGIN:VEVENT
UID:69e5e366cdc0a
DTSTAMP:20260420T092718
DTSTART:20230308T231500Z
DTEND:20230309T004500Z
TZID:Pacific/Midway
LOCATION:Instalações Desportivas HBG 
SUMMARY:Orientação Rodoviária
DESCRIPTION: Atividade inserida no Plano Regional de Prevenção Rodoviária.
URL:https://hbg.pt/Eventos/orientacao-rodoviaria-2/
END:VEVENT
END:VCALENDAR