BEGIN:VCALENDAR
VERSION:2.0
PRODID:-//eventon.com NONSGML v1.0//EN
BEGIN:VEVENT
UID:69e5f66a2963a
DTSTAMP:20260420T104826
DTSTART:20230308T231500Z
DTEND:20230309T010000Z
TZID:Pacific/Midway
LOCATION:
SUMMARY:Prova dos Nove 6º ano
DESCRIPTION: No dia 8 de março (4ªfeira)\,  decorrerá mais uma Prova dos Nove para as turmas do 6.ºano. A atividade realizar-se-á nas instalações desportivas da Escola entre as 12:15h–14:00h.
URL:https://hbg.pt/Eventos/prova-dos-nove-6o-ano/
END:VEVENT
END:VCALENDAR