BEGIN:VCALENDAR
VERSION:2.0
PRODID:-//eventon.com NONSGML v1.0//EN
BEGIN:VEVENT
UID:69e5f60a5c3bc
DTSTAMP:20260420T104650
DTSTART:20230306T110000Z
DTEND:20230311T105900Z
TZID:Pacific/Midway
LOCATION:
SUMMARY:Exposição "Floresta Laurissilva"
DESCRIPTION: Exposição patente no Polivalente
URL:https://hbg.pt/Eventos/exposicao-floresta-laurissilva/
END:VEVENT
END:VCALENDAR