BEGIN:VCALENDAR
VERSION:2.0
PRODID:-//eventon.com NONSGML v1.0//EN
BEGIN:VEVENT
UID:69e6086ded8e5
DTSTAMP:20260420T120517
DTSTART:20230313T200000Z
DTEND:20230317T200000Z
TZID:Pacific/Midway
LOCATION:
SUMMARY:Semana da Matemática
DESCRIPTION: Entre os dias 13 e 17 de março decorrerá na Escola a “Semana da Matemática”\,  sob o tema “Números\,  Medidas\,  Proporções …”. Convidamos toda a comunidade educativa a visitar as exposições localizadas: no piso 1 – “Outra visão do Pi”\,  alusiva ao Dia Internacional do Pi e aos algarismos que[..]
URL:https://hbg.pt/Eventos/semana-da-matematica/
END:VEVENT
END:VCALENDAR