BEGIN:VCALENDAR
VERSION:2.0
PRODID:-//eventon.com NONSGML v1.0//EN
BEGIN:VEVENT
UID:69e608a12a76f
DTSTAMP:20260420T120609
DTSTART:20230323T020000Z
DTEND:20230323T030000Z
TZID:Pacific/Midway
LOCATION:
SUMMARY:Comemoração do Dia Mundial da Água
DESCRIPTION: ​​​​​​​​​​​O&nbsp;Dia Mundial da Água&nbsp;comemora-se a&nbsp;22 de&nbsp;março\,  ligado ao objetivo de desenvolvimento sustentável 6 (água e saneamento para todos até 2030). Este ano tem como&nbsp;tema:&nbsp;Acelerar a mudança para resolver a crise de água e saneamento.&nbsp; Neste dia a ARM\,  Água e Resíduos da Madeira\,  irá dinamizar uma ação de sensibilização para[..]
URL:https://hbg.pt/Eventos/comemoracao-do-dia-mundial-da-agua/
END:VEVENT
END:VCALENDAR