BEGIN:VCALENDAR
VERSION:2.0
PRODID:-//eventon.com NONSGML v1.0//EN
BEGIN:VEVENT
UID:69e60bb26dad6
DTSTAMP:20260420T121914
DTSTART:20230419T180000Z
DTEND:20230420T080000Z
TZID:Pacific/Midway
LOCATION:
SUMMARY:II Encontro Regional da Escola Azul - Porto Santo
DESCRIPTION: No próximo dia 19 de abril a nossa escola vai participar no II Encontro Regional da Escola Azul\,  programa educativo promovido pelo Ministério da Economia e Mar\,  dinamizado na Madeira pela Direção Regional do Mar. O encontro vai contar com a participação de mais de 400 pessoas de diferentes escolas[..]
URL:https://hbg.pt/Eventos/ii-encontro-regional-da-escola-azul-porto-santo/
END:VEVENT
END:VCALENDAR