BEGIN:VCALENDAR
VERSION:2.0
PRODID:-//eventon.com NONSGML v1.0//EN
BEGIN:VEVENT
UID:69e5e3668d1cf
DTSTAMP:20260420T092718
DTSTART:20230331T190000Z
DTEND:20230401T040000Z
TZID:Pacific/Midway
LOCATION:Explorar a Madeira II Caniçal 
SUMMARY:Explorar a Madeira II
DESCRIPTION: “II Explorar a Madeira 2023”   A II edição do “Explorar a Madeira 2023” é desenvolvida pela Direção Regional de Educação com parceria de vários projetos desta instituição. A atividade é destinada aos alunos dos 2.º e 3.º ciclos e do secundário das escolas da RAM e está agendada para[..]
URL:https://hbg.pt/Eventos/explorar-a-madeira-ii/
END:VEVENT
END:VCALENDAR