BEGIN:VCALENDAR
VERSION:2.0
PRODID:-//eventon.com NONSGML v1.0//EN
BEGIN:VEVENT
UID:69e5f68512577
DTSTAMP:20260420T104853
DTSTART:20230325T200000Z
DTEND:20230326T000000Z
TZID:Pacific/Midway
LOCATION:Escola Francisco Franco 
SUMMARY:Jogos do Desporto Escolar
DESCRIPTION: Dia 25 de março decorre mais uma jornada competitiva do Desporto Escolar.&nbsp; Esta competição inter escolas ira decorrer nas modalidades de Futsal\,  Basquetebol Voleibol\,  badminton e Patinagem.&nbsp;
URL:https://hbg.pt/Eventos/jogos-do-desporto-escolar/
END:VEVENT
END:VCALENDAR