BEGIN:VCALENDAR
VERSION:2.0
PRODID:-//eventon.com NONSGML v1.0//EN
BEGIN:VEVENT
UID:69e609d09c0f8
DTSTAMP:20260420T121112
DTSTART:20230508T190000Z
DTEND:20230527T051500Z
TZID:Pacific/Midway
LOCATION:Piso 1 - Edifício Escola Dr. Horácio Bento de Gouveia 
SUMMARY:“Uma ideia é só um ponto de partida...” Grupo 240
DESCRIPTION: “Uma ideia é só um ponto de partida&#8230;” Pablo Picasso No âmbito do evento “Dias D’ Arte”\,  na disciplina de Educação Visual\,  será dinamizada uma atividade inspirada no livro “O Ponto”\,  escrito e ilustrado por Peter H. Reynolds. Esta é uma história sobre uma menina que descobre o seu talento[..]
URL:https://hbg.pt/Eventos/uma-ideia-e-so-um-ponto-de-partida-grupo-240/
END:VEVENT
END:VCALENDAR