BEGIN:VCALENDAR
VERSION:2.0
PRODID:-//eventon.com NONSGML v1.0//EN
BEGIN:VEVENT
UID:69e609bc892d6
DTSTAMP:20260420T121052
DTSTART:20230421T101500Z
DTEND:20230421T133000Z
TZID:Etc/Greenwich
LOCATION:
SUMMARY:Oficina: Energias Renováveis- atividades práticas para a sala de aula
DESCRIPTION: Será dinamizado neste dia\,  21 de abril a oficina\,  Energias Renováveis- atividades práticas para a sala de aula\, &nbsp; pelo Serviço Educativo da ARDITI em colaboração com a Plataforma Oceânica de Canárias (PLOCAN)\,  a&nbsp;duas turmas do 3º ciclo da nossa Escola. Será apresentada a temática das energias renováveis e a explorada[..]
URL:https://hbg.pt/Eventos/oficina-energias-renovaveis-atividades-praticas-para-a-sala-de-aula/
END:VEVENT
END:VCALENDAR