BEGIN:VCALENDAR
VERSION:2.0
PRODID:-//eventon.com NONSGML v1.0//EN
BEGIN:VEVENT
UID:69e5e64cb7d25
DTSTAMP:20260420T093940
DTSTART:20230426T213000Z
DTEND:20230426T230000Z
TZID:Pacific/Midway
LOCATION:
SUMMARY:Alunos desenvolvem uma atividade no âmbito da "Campanha do Laço Azul"\,  numa ação de sensibilização a decorrer no Largo do Colégio
DESCRIPTION: A Escola Dr. Horácio Bento de Gouveia está a desenvolver durante o mês de abril diversas atividades no âmbito do evento &#8220;Laço Azul&#8221;\,  uma iniciativa promovida nas escolas pela Comissão de Proteção de Crianças e Jovens. No dia 26 de abril (quarta-feira)\,  entre as 10:00 horas e as 11:30 horas\, [..]
URL:https://hbg.pt/Eventos/alunos-desenvolvem-uma-atividade-no-ambito-da-campanha-do-laco-azul-numa-acao-de-sensibilizacao-a-decorrer-no-largo-do-colegio/
END:VEVENT
END:VCALENDAR