BEGIN:VCALENDAR
VERSION:2.0
PRODID:-//eventon.com NONSGML v1.0//EN
BEGIN:VEVENT
UID:69e5e305e4f43
DTSTAMP:20260420T092541
DTSTART:20230502T190000Z
DTEND:20230506T051500Z
TZID:Pacific/Midway
LOCATION:
SUMMARY:Semana do Português - De lirismo somos feitos!
DESCRIPTION: De 3 a 5 de maio\,  o Grupo de Recrutamento de Português de 3.º Ciclo promove as suas atividades previstas no Plano Anual de Escola\,  seguindo uma política de sustentabilidade e\,  neste âmbito\,  dedica a semana à temática “De Lírica Somos Feitos”. Para descobrires o que vai acontecer\,  descobre a[..]
URL:https://hbg.pt/Eventos/semana-do-portugues-de-lirismo-somos-feitos/
END:VEVENT
END:VCALENDAR