BEGIN:VCALENDAR
VERSION:2.0
PRODID:-//eventon.com NONSGML v1.0//EN
BEGIN:VEVENT
UID:69e6097e21a32
DTSTAMP:20260420T120950
DTSTART:20230509T211500Z
DTEND:20230512T043000Z
TZID:Pacific/Midway
LOCATION:
SUMMARY:Semana da Europa
DESCRIPTION: Esta semana comemoramos o dia da Europa. Fiquem atentos ao nosso cartaz!
URL:https://hbg.pt/Eventos/semana-da-europa/
END:VEVENT
END:VCALENDAR