BEGIN:VCALENDAR
VERSION:2.0
PRODID:-//eventon.com NONSGML v1.0//EN
BEGIN:VEVENT
UID:69e5f67ff3f61
DTSTAMP:20260420T104847
DTSTART:20230515T194500Z
DTEND:20230519T233000Z
TZID:Pacific/Midway
LOCATION:
SUMMARY:Semana da Saúde
DESCRIPTION: Semana da Saúde
URL:https://hbg.pt/Eventos/programa-da-semana-da-saude/
END:VEVENT
END:VCALENDAR