BEGIN:VCALENDAR
VERSION:2.0
PRODID:-//eventon.com NONSGML v1.0//EN
BEGIN:VEVENT
UID:69e5f690f0c2f
DTSTAMP:20260420T104904
DTSTART:20230519T053000Z
DTEND:20230519T080000Z
TZID:Pacific/Midway
LOCATION:Auditório - HBG 
SUMMARY:Final do IX Concurso de Talentos HBG
DESCRIPTION: A prova Final do IX Concurso de Talentos HBG\,  realizar-se-á no Auditório a partir das 18:30\,  no dia 18 de maio de 2023.. O evento consta de 4 partes: Apresentações dos concorrentes\,  Deliberação do Júri /Atuações; Entrega de Certificados /Prémios  e um convívio com todos os presentes. Quem estiver interessado\, [..]
URL:https://hbg.pt/Eventos/final-do-ix-concurso-de-talentos-hbg/
END:VEVENT
END:VCALENDAR