BEGIN:VCALENDAR
VERSION:2.0
PRODID:-//eventon.com NONSGML v1.0//EN
BEGIN:VEVENT
UID:69e5e36e3d939
DTSTAMP:20260420T092726
DTSTART:20230605T190000Z
DTEND:20230610T050000Z
TZID:Pacific/Midway
LOCATION:
SUMMARY:Semana do Oceano - Comemoração do Dia Mundial do Oceano
DESCRIPTION: Comemoração do Dia Mundial do Oceano &#8211; Exposição piso 1
URL:https://hbg.pt/Eventos/semana-do-oceano-comemoracao-do-dia-mundial-do-oceano/
END:VEVENT
END:VCALENDAR