BEGIN:VCALENDAR
VERSION:2.0
PRODID:-//eventon.com NONSGML v1.0//EN
BEGIN:VEVENT
UID:69e60a8478870
DTSTAMP:20260420T121412
DTSTART:20230627T210000Z
DTEND:20230627T233000Z
TZID:Pacific/Midway
LOCATION:
SUMMARY:Ação de sensibilização eTwinning
DESCRIPTION: É hoje! Às 10h00\,  no sala Poli 4! Vamos ter a presença da embaixadora eTwinning para a Madeira a dinamizar uma ação de sensibilização denominada “O eTwinning vai à HBG!” No âmbito das atividades da HBG enquanto “Escola eTwinning” receberemos a embaixadora Celina Lajoso para divulgar o eTwinning\,   o seu[..]
URL:https://hbg.pt/Eventos/acao-de-sensibilizacao-etwinning/
END:VEVENT
END:VCALENDAR