BEGIN:VCALENDAR
VERSION:2.0
PRODID:-//eventon.com NONSGML v1.0//EN
BEGIN:VEVENT
UID:69e61807b4980
DTSTAMP:20260420T131151
DTSTART:20230704T203000Z
DTEND:20230707T223000Z
TZID:Pacific/Midway
LOCATION:Escola HBG Estrada da liberdade\,  1\,  Funchal
SUMMARY:Formação | A Comunicação ao serviço da Escola: modelo\,  instrumentos e práticas.
DESCRIPTION: A realidade quotidiana tem evidenciado a importância de uma escola aberta à comunidade e com boas práticas colaborativas entre os seus profissionais. O que implica\,  inevitavelmente\,  agir de forma organizada sobre estas interações\,  isto é\,  intervir no setor da Comunicação Organizacional.   Inscrições fechadas. Formadores: Luís da Mata; Martinho Correia;[..]
URL:https://hbg.pt/Eventos/formacao-a-comunicacao-ao-servico-da-escola-modelo-instrumentos-e-praticas/
END:VEVENT
END:VCALENDAR