BEGIN:VCALENDAR
VERSION:2.0
PRODID:-//eventon.com NONSGML v1.0//EN
BEGIN:VEVENT
UID:69e60a043b911
DTSTAMP:20260420T121204
DTSTART:20230915T000000Z
DTEND:20230915T000000Z
TZID:Etc/Greenwich
LOCATION:
SUMMARY:teste 2 - reservado
DESCRIPTION: teste 2 - reservado
URL:https://hbg.pt/Eventos/teste-2-2/
END:VEVENT
END:VCALENDAR