BEGIN:VCALENDAR
VERSION:2.0
PRODID:-//eventon.com NONSGML v1.0//EN
BEGIN:VEVENT
UID:69e60a09583b8
DTSTAMP:20260420T121209
DTSTART:20230908T225700Z
DTEND:20230908T225700Z
TZID:Pacific/Midway
LOCATION:
SUMMARY:Novo evento privado 2
DESCRIPTION: teste
URL:https://hbg.pt/Eventos/novo-evento-privado-2/
END:VEVENT
END:VCALENDAR