BEGIN:VCALENDAR
VERSION:2.0
PRODID:-//eventon.com NONSGML v1.0//EN
BEGIN:VEVENT
UID:69e5e3706c8b5
DTSTAMP:20260420T092728
DTSTART:20230915T191500Z
DTEND:20230916T053000Z
TZID:Pacific/Midway
LOCATION:
SUMMARY:Início das atividades letivas
DESCRIPTION: Início das atividades letivas
URL:https://hbg.pt/Eventos/inicio-das-atividades-letivas/
END:VEVENT
END:VCALENDAR