BEGIN:VCALENDAR
VERSION:2.0
PRODID:-//eventon.com NONSGML v1.0//EN
BEGIN:VEVENT
UID:69e5e2fc6e9db
DTSTAMP:20260420T092532
DTSTART:20231010T200000Z
DTEND:20231011T034500Z
TZID:Pacific/Midway
LOCATION:Auditório - HBG 
SUMMARY:HBG: uma Escola que se quer Inclusiva
DESCRIPTION: Ligação para o site do Evento: https://hbg.pt/hbg-inclusiva/evento/
URL:https://hbg.pt/Eventos/hbg-uma-escola-que-se-quer-inclusiva/
END:VEVENT
END:VCALENDAR